BEGIN:VCALENDAR
VERSION:2.0
PRODID:-//hacksw/handcal//NONSGML v1.0//EN
CALSCALE:GREGORIAN
BEGIN:VEVENT
SUMMARY:Copa 71
DTSTART:20260331T180000Z
DTEND:20260331T200000Z
GEO:51.04594;13.67510
LOCATION:Passage\, Leutewitzer Ring 5\, 01169 Dresden
DESCRIPTION:
URL;VALUE=URI:http://www.kinokalender.com/termin1587163.html
DTSTAMP:20260420T210438Z
UID:69e694e6193f1
END:VEVENT
END:VCALENDAR