BEGIN:VCALENDAR
VERSION:2.0
PRODID:-//hacksw/handcal//NONSGML v1.0//EN
CALSCALE:GREGORIAN
BEGIN:VEVENT
SUMMARY:Der letzte Mann
DTSTART:20260314T190000Z
DTEND:20260314T204700Z
GEO:51.04203;13.79748
LOCATION:Museumskino Ernemann VIIb\, Junghansstraße 1-3\, 01277 Dresden
DESCRIPTION:
URL;VALUE=URI:http://www.kinokalender.com/termin1587077.html
DTSTAMP:20260424T085342Z
UID:69eb2f966c6ca
END:VEVENT
END:VCALENDAR