BEGIN:VCALENDAR
VERSION:2.0
PRODID:-//hacksw/handcal//NONSGML v1.0//EN
CALSCALE:GREGORIAN
BEGIN:VEVENT
SUMMARY:Dust Bunny
DTSTART:20260224T193000Z
DTEND:20260224T214600Z
GEO:51.07124;13.75051
LOCATION:Filmtheater Schauburg\, Königsbrücker Straße 55\, 01099 Dresden
DESCRIPTION:
URL;VALUE=URI:http://www.kinokalender.com/termin1586996.html
DTSTAMP:20260420T085350Z
UID:69e5e99eadedb
END:VEVENT
END:VCALENDAR