BEGIN:VCALENDAR
VERSION:2.0
PRODID:-//hacksw/handcal//NONSGML v1.0//EN
CALSCALE:GREGORIAN
BEGIN:VEVENT
SUMMARY:Woodwalkers 2
DTSTART:20260211T112000Z
DTEND:20260211T133300Z
GEO:51.05182;13.80533
LOCATION:CinemaxX\, Hüblerstr. 8\, 01309 Dresden
DESCRIPTION:
URL;VALUE=URI:http://www.kinokalender.com/termin1583519.html
DTSTAMP:20260421T022732Z
UID:69e6e094cf428
END:VEVENT
END:VCALENDAR