BEGIN:VCALENDAR
VERSION:2.0
PRODID:-//hacksw/handcal//NONSGML v1.0//EN
CALSCALE:GREGORIAN
BEGIN:VEVENT
SUMMARY:Disney Channel Mitmachkino 2025
DTSTART:20260207T123000Z
DTEND:20260207T140100Z
GEO:51.05182;13.80533
LOCATION:CinemaxX\, Hüblerstr. 8\, 01309 Dresden
DESCRIPTION:
URL;VALUE=URI:http://www.kinokalender.com/termin1583419.html
DTSTAMP:20260421T151320Z
UID:69e79410e4d4a
END:VEVENT
END:VCALENDAR