BEGIN:VCALENDAR
VERSION:2.0
PRODID:-//hacksw/handcal//NONSGML v1.0//EN
CALSCALE:GREGORIAN
BEGIN:VEVENT
SUMMARY:Der Medicus II
DTSTART:20260210T093000Z
DTEND:20260210T122300Z
GEO:51.05182;13.80533
LOCATION:CinemaxX\, Hüblerstr. 8\, 01309 Dresden
DESCRIPTION:
URL;VALUE=URI:http://www.kinokalender.com/termin1583384.html
DTSTAMP:20260420T192725Z
UID:69e67e1df240e
END:VEVENT
END:VCALENDAR