BEGIN:VCALENDAR
VERSION:2.0
PRODID:-//hacksw/handcal//NONSGML v1.0//EN
CALSCALE:GREGORIAN
BEGIN:VEVENT
SUMMARY:Avatar: Fire and Ash
DTSTART:20260209T130000Z
DTEND:20260209T164500Z
GEO:51.05182;13.80533
LOCATION:CinemaxX\, Hüblerstr. 8\, 01309 Dresden
DESCRIPTION:
URL;VALUE=URI:http://www.kinokalender.com/termin1583358.html
DTSTAMP:20260422T044104Z
UID:69e851604ea26
END:VEVENT
END:VCALENDAR