BEGIN:VCALENDAR
VERSION:2.0
PRODID:-//hacksw/handcal//NONSGML v1.0//EN
CALSCALE:GREGORIAN
BEGIN:VEVENT
SUMMARY:The Housemaid - Wenn Sie wüsste
DTSTART:20260211T184500Z
DTEND:20260211T212600Z
GEO:51.04384;13.73755
LOCATION:Cineplex Kristallpalast Dresden\, St. Petersburger Straße 24a\, 01069 Dresden
DESCRIPTION:
URL;VALUE=URI:http://www.kinokalender.com/termin1582681.html
DTSTAMP:20260422T104817Z
UID:69e8a771d2182
END:VEVENT
END:VCALENDAR