BEGIN:VCALENDAR
VERSION:2.0
PRODID:-//hacksw/handcal//NONSGML v1.0//EN
CALSCALE:GREGORIAN
BEGIN:VEVENT
SUMMARY:Avatar: Fire And Ash
DTSTART:20260211T173000Z
DTEND:20260211T211500Z
GEO:51.04384;13.73755
LOCATION:Cineplex Kristallpalast Dresden\, St. Petersburger Straße 24a\, 01069 Dresden
DESCRIPTION:
URL;VALUE=URI:http://www.kinokalender.com/termin1582629.html
DTSTAMP:20260422T044055Z
UID:69e85157e5ff1
END:VEVENT
END:VCALENDAR