BEGIN:VCALENDAR
VERSION:2.0
PRODID:-//hacksw/handcal//NONSGML v1.0//EN
CALSCALE:GREGORIAN
BEGIN:VEVENT
SUMMARY:Therapie für Wikinger
DTSTART:20260203T181500Z
DTEND:20260203T204100Z
GEO:51.07124;13.75051
LOCATION:Filmtheater Schauburg\, Königsbrücker Straße 55\, 01099 Dresden
DESCRIPTION:
URL;VALUE=URI:http://www.kinokalender.com/termin1582077.html
DTSTAMP:20260425T221739Z
UID:69ed3d83cd252
END:VEVENT
END:VCALENDAR