BEGIN:VCALENDAR
VERSION:2.0
PRODID:-//hacksw/handcal//NONSGML v1.0//EN
CALSCALE:GREGORIAN
BEGIN:VEVENT
SUMMARY:Met Opera 2025/26: Gabriela Lena Frank / Nilo Cruz El último Sueňo de Frida y Diego
DTSTART:20260530T170000Z
GEO:51.04487;13.73697
LOCATION:Rundkino Dresden\, Prager Straße 6\, 01069 Dresden
DESCRIPTION:
URL;VALUE=URI:http://www.kinokalender.com/termin1556895.html
DTSTAMP:20260424T085303Z
UID:69eb2f6f161e2
END:VEVENT
END:VCALENDAR