BEGIN:VCALENDAR
VERSION:2.0
PRODID:-//hacksw/handcal//NONSGML v1.0//EN
CALSCALE:GREGORIAN
BEGIN:VEVENT
SUMMARY:Ich - Einfach unverbesserlich 4
DTSTART:20240806T120000Z
DTEND:20240806T140500Z
GEO:51.07124;13.75051
LOCATION:Filmtheater Schauburg\, Königsbrücker Straße 55\, 01099 Dresden
DESCRIPTION:
URL;VALUE=URI:http://www.kinokalender.com/termin1443585.html
DTSTAMP:20260426T040638Z
UID:69ed8f4e2d29d
END:VEVENT
END:VCALENDAR