BEGIN:VCALENDAR
VERSION:2.0
PRODID:-//hacksw/handcal//NONSGML v1.0//EN
CALSCALE:GREGORIAN
BEGIN:VEVENT
SUMMARY:The Zone of Interest
DTSTART:20240806T111500Z
DTEND:20240806T133000Z
GEO:51.07124;13.75051
LOCATION:Filmtheater Schauburg\, Königsbrücker Straße 55\, 01099 Dresden
DESCRIPTION:
URL;VALUE=URI:http://www.kinokalender.com/termin1443561.html
DTSTAMP:20260426T040634Z
UID:69ed8f4a0c363
END:VEVENT
END:VCALENDAR