BEGIN:VCALENDAR
VERSION:2.0
PRODID:-//hacksw/handcal//NONSGML v1.0//EN
CALSCALE:GREGORIAN
BEGIN:VEVENT
SUMMARY:Raus aus dem Teich
DTSTART:20240724T150000Z
DTEND:20240724T165000Z
GEO:51.05665;13.74576
LOCATION:Filmnächte am Elbufer\, Königsufer\,  Dresden
DESCRIPTION:
URL;VALUE=URI:http://www.kinokalender.com/termin1434408.html
DTSTAMP:20260420T162509Z
UID:69e653656322c
END:VEVENT
END:VCALENDAR