BEGIN:VCALENDAR
VERSION:2.0
PRODID:-//hacksw/handcal//NONSGML v1.0//EN
CALSCALE:GREGORIAN
BEGIN:VEVENT
SUMMARY:Der kleine Maulwurf - Seine schönsten Abenteuer
DTSTART:20220206T084500Z
DTEND:20220206T102100Z
GEO:51.07124;13.75051
LOCATION:Filmtheater Schauburg\, Königsbrücker Straße 55\, 01099 Dresden
DESCRIPTION:
URL;VALUE=URI:http://www.kinokalender.com/termin1182972.html
DTSTAMP:20260421T022724Z
UID:69e6e08c85805
END:VEVENT
END:VCALENDAR