BEGIN:VCALENDAR
VERSION:2.0
PRODID:-//hacksw/handcal//NONSGML v1.0//EN
CALSCALE:GREGORIAN
BEGIN:VEVENT
SUMMARY:Shaun das Schaf - Der Film: UFO-Alarm
DTSTART:20191120T090000Z
DTEND:20191120T105700Z
GEO:51.07124;13.75051
LOCATION:Filmtheater Schauburg\, Königsbrücker Straße 55\, 01099 Dresden
DESCRIPTION:
URL;VALUE=URI:http://www.kinokalender.com/termin1047877.html
DTSTAMP:20260425T025325Z
UID:69ec2ca57f458
END:VEVENT
END:VCALENDAR